BEGIN:VCALENDAR
VERSION:2.0
PRODID:-//Healthcare Matters - ECPv6.15.20//NONSGML v1.0//EN
CALSCALE:GREGORIAN
METHOD:PUBLISH
X-WR-CALNAME:Healthcare Matters
X-ORIGINAL-URL:https://healthcarematters.uk
X-WR-CALDESC:Events for Healthcare Matters
REFRESH-INTERVAL;VALUE=DURATION:PT1H
X-Robots-Tag:noindex
X-PUBLISHED-TTL:PT1H
BEGIN:VTIMEZONE
TZID:Europe/London
BEGIN:DAYLIGHT
TZOFFSETFROM:+0000
TZOFFSETTO:+0100
TZNAME:BST
DTSTART:20240331T010000
END:DAYLIGHT
BEGIN:STANDARD
TZOFFSETFROM:+0100
TZOFFSETTO:+0000
TZNAME:GMT
DTSTART:20241027T010000
END:STANDARD
BEGIN:DAYLIGHT
TZOFFSETFROM:+0000
TZOFFSETTO:+0100
TZNAME:BST
DTSTART:20250330T010000
END:DAYLIGHT
BEGIN:STANDARD
TZOFFSETFROM:+0100
TZOFFSETTO:+0000
TZNAME:GMT
DTSTART:20251026T010000
END:STANDARD
BEGIN:DAYLIGHT
TZOFFSETFROM:+0000
TZOFFSETTO:+0100
TZNAME:BST
DTSTART:20260329T010000
END:DAYLIGHT
BEGIN:STANDARD
TZOFFSETFROM:+0100
TZOFFSETTO:+0000
TZNAME:GMT
DTSTART:20261025T010000
END:STANDARD
END:VTIMEZONE
BEGIN:VEVENT
DTSTART;TZID=Europe/London:20250618T090000
DTEND;TZID=Europe/London:20250619T170000
DTSTAMP:20260425T202759
CREATED:20240722T151743Z
LAST-MODIFIED:20240722T151743Z
UID:525-1750237200-1750352400@healthcarematters.uk
SUMMARY:London BioTechnology Show 2025
DESCRIPTION:The London Biotechnology Show returns for its second edition at ExCeL London.\nThe London Biotechnology Show is a premier event taking place in the United Kingdom to expedite the progress of biotechnology for revolutionising the medical & healthcare sectors in the region and across the globe. \nDon’t miss your chance to stand out in the competition!\nBook you stand
URL:https://healthcarematters.uk/event/london-biotechnology-show-2025
LOCATION:ExCeL London\, Royal Victoria Dock\, 1 Western Gateway\, London\, E16 1XL\, United Kingdom
ATTACH;FMTTYPE=image/jpeg:https://healthcarematters.uk/wp-content/uploads/2024/07/LondonBiotechnologyShow2025_Event.jpg
ORGANIZER;CN="Valiant Business Media":MAILTO:info@valiantandcompany.com
END:VEVENT
END:VCALENDAR