BEGIN:VCALENDAR
VERSION:2.0
PRODID:-//Healthcare Matters - ECPv6.15.20//NONSGML v1.0//EN
CALSCALE:GREGORIAN
METHOD:PUBLISH
X-WR-CALNAME:Healthcare Matters
X-ORIGINAL-URL:https://healthcarematters.uk
X-WR-CALDESC:Events for Healthcare Matters
REFRESH-INTERVAL;VALUE=DURATION:PT1H
X-Robots-Tag:noindex
X-PUBLISHED-TTL:PT1H
BEGIN:VTIMEZONE
TZID:Europe/London
BEGIN:DAYLIGHT
TZOFFSETFROM:+0000
TZOFFSETTO:+0100
TZNAME:BST
DTSTART:20240331T010000
END:DAYLIGHT
BEGIN:STANDARD
TZOFFSETFROM:+0100
TZOFFSETTO:+0000
TZNAME:GMT
DTSTART:20241027T010000
END:STANDARD
BEGIN:DAYLIGHT
TZOFFSETFROM:+0000
TZOFFSETTO:+0100
TZNAME:BST
DTSTART:20250330T010000
END:DAYLIGHT
BEGIN:STANDARD
TZOFFSETFROM:+0100
TZOFFSETTO:+0000
TZNAME:GMT
DTSTART:20251026T010000
END:STANDARD
BEGIN:DAYLIGHT
TZOFFSETFROM:+0000
TZOFFSETTO:+0100
TZNAME:BST
DTSTART:20260329T010000
END:DAYLIGHT
BEGIN:STANDARD
TZOFFSETFROM:+0100
TZOFFSETTO:+0000
TZNAME:GMT
DTSTART:20261025T010000
END:STANDARD
END:VTIMEZONE
BEGIN:VEVENT
DTSTART;TZID=Europe/London:20250625T090000
DTEND;TZID=Europe/London:20250626T180000
DTSTAMP:20260425T202800
CREATED:20241114T140520Z
LAST-MODIFIED:20241114T140638Z
UID:713-1750842000-1750960800@healthcarematters.uk
SUMMARY:EBME Expo 2025
DESCRIPTION:The EBME Expo has been operating for 16 years and has established itself as the UK’s largest gathering of clinical engineers\, EBME managers\, and support staff. The exhibition targets a broad audience\, including healthcare procurement officials\, operating theatre managers\, and ODPs\, catering to the full life cycle of medical equipment users—from purchasing and installation to setup\, maintenance\, and replacement. \nThe 16th edition presents an unparalleled gateway to the UK healthcare market. It’s an exceptional opportunity for international companies to showcase their innovations in healthcare technology and biomedical engineering. Seize this chance to connect with industry leaders\, expand your network\, and explore new business prospects. Your gateway to success in the thriving UK healthcare sector awaits!
URL:https://healthcarematters.uk/event/ebme-expo-2025
LOCATION:Coventry Building Society Arena\, Judds Lane\, Longford\, Coventry\, CV6 6AQ\, United Kingdom
ATTACH;FMTTYPE=image/jpeg:https://healthcarematters.uk/wp-content/uploads/2024/11/EBMEExpo2025_Event.jpg
ORGANIZER;CN="BtoB Events":MAILTO:info@btob-events.co.uk
END:VEVENT
END:VCALENDAR