BEGIN:VCALENDAR
VERSION:2.0
PRODID:-//Healthcare Matters - ECPv6.15.20//NONSGML v1.0//EN
CALSCALE:GREGORIAN
METHOD:PUBLISH
X-WR-CALNAME:Healthcare Matters
X-ORIGINAL-URL:https://healthcarematters.uk
X-WR-CALDESC:Events for Healthcare Matters
REFRESH-INTERVAL;VALUE=DURATION:PT1H
X-Robots-Tag:noindex
X-PUBLISHED-TTL:PT1H
BEGIN:VTIMEZONE
TZID:Europe/London
BEGIN:DAYLIGHT
TZOFFSETFROM:+0000
TZOFFSETTO:+0100
TZNAME:BST
DTSTART:20250330T010000
END:DAYLIGHT
BEGIN:STANDARD
TZOFFSETFROM:+0100
TZOFFSETTO:+0000
TZNAME:GMT
DTSTART:20251026T010000
END:STANDARD
BEGIN:DAYLIGHT
TZOFFSETFROM:+0000
TZOFFSETTO:+0100
TZNAME:BST
DTSTART:20260329T010000
END:DAYLIGHT
BEGIN:STANDARD
TZOFFSETFROM:+0100
TZOFFSETTO:+0000
TZNAME:GMT
DTSTART:20261025T010000
END:STANDARD
BEGIN:DAYLIGHT
TZOFFSETFROM:+0000
TZOFFSETTO:+0100
TZNAME:BST
DTSTART:20270328T010000
END:DAYLIGHT
BEGIN:STANDARD
TZOFFSETFROM:+0100
TZOFFSETTO:+0000
TZNAME:GMT
DTSTART:20271031T010000
END:STANDARD
END:VTIMEZONE
BEGIN:VEVENT
DTSTART;TZID=Europe/London:20260602T090000
DTEND;TZID=Europe/London:20260603T180000
DTSTAMP:20260423T022859
CREATED:20260422T095920Z
LAST-MODIFIED:20260422T095920Z
UID:1455-1780390800-1780509600@healthcarematters.uk
SUMMARY:Design in Mental Health 2026
DESCRIPTION:The UK’s leading event dedicated to mental health environments\nDesign in Mental Health is the annual Conference\, Exhibition and Awards dedicated to advancing the cause of good design in mental health settings. \nA day at Design in Mental Health is a time- and cost-efficient way to stay connected with the people and information you need to navigate the challenges and changes ahead. \nThe event is organised with Design in Mental Health Network\, a UK charity dedicated to improving mental health outcomes by promoting co-produced\, evidence-based design of care environments. \nThe Design in Mental Health Exhibition has become a key destination for those involved in the design\, build\, equipping\, refurbishment and management of mental healthcare environments. \nOur visitors are not afraid to challenge products. In fact many of our long standing exhibitors use the event as inspiration for further innovation. Many products have been launched from the feedback gained on site from visitors keen to find tailored solutions to benefit the service users in their care. \nReasons to Exhibit \n\nShowcase your products\, services and expertise to the marketplace\nForge new business partnerships\nMeet face-to-face with new and existing clients\nNetwork with other key industry professionals\nLaunch new products and services\nFocus on future investment & business strategies\n\nREGISTER HERE \nBOOK A STAND
URL:https://healthcarematters.uk/event/design-in-mental-health-2026
LOCATION:Coventry Building Society Arena\, Judds Lane\, Longford\, Coventry\, CV6 6AQ\, United Kingdom
ATTACH;FMTTYPE=image/jpeg:https://healthcarematters.uk/wp-content/uploads/2026/04/DesigninMentalHealth2026_Event.jpg
ORGANIZER;CN="Step Exhibitions":MAILTO:mail@step-exhibitions.com
END:VEVENT
END:VCALENDAR